BEGIN:VCALENDAR
VERSION:2.0
PRODID:-//Squarespace Inc/Squarespace 6//v6//EN
BEGIN:VEVENT
UID:60346ac8b5c924689464fab1@squarespace.com
DTSTAMP:20210223T030345Z
DTSTART:20210219T181500Z
DTEND:20210219T190000Z
SUMMARY:Friday Pilates
GEO:-33.885833;151.207548
LOCATION:Irish Support Agency\, 64 Devonshire Street\, Surry Hills\, NSW\, 
 2010\, Australia
END:VEVENT
END:VCALENDAR
