BEGIN:VCALENDAR
VERSION:2.0
PRODID:-//Squarespace Inc/Squarespace 6//v6//EN
BEGIN:VEVENT
UID:603470a3dca12a470db947a7@squarespace.com
DTSTAMP:20210223T030441Z
DTSTART:20210226T181500Z
DTEND:20210226T190000Z
SUMMARY:Friday Pilates 
GEO:-33.885833;151.207548
LOCATION:Irish Support Agency\, 64 Devonshire Street\, Surry Hills\, NSW\, 
 2010\, Australia
END:VEVENT
END:VCALENDAR
