BEGIN:VCALENDAR
VERSION:2.0
PRODID:-//Squarespace Inc/Squarespace 6//v6//EN
BEGIN:VEVENT
UID:603470d2846eb10adafb5d70@squarespace.com
DTSTAMP:20210223T030519Z
DTSTART:20210305T181500Z
DTEND:20210305T190000Z
SUMMARY:Friday Pilates 
GEO:-33.885833;151.207548
LOCATION:Irish Support Agency\, 64 Devonshire Street\, Surry Hills\, NSW\, 
 2010\, Australia
END:VEVENT
END:VCALENDAR
