BEGIN:VCALENDAR
VERSION:2.0
PRODID:-//Squarespace Inc/Squarespace 6//v6//EN
BEGIN:VEVENT
UID:5d394ae3ba3fee0001676399@squarespace.com
DTSTAMP:20191016T052700Z
DTSTART:20191019T133000Z
DTEND:20191026T210000Z
SUMMARY:Mental Health First Aid Training                         
GEO:-33.892476;151.246129
LOCATION:Mill Hill Community Centre\, 31-33 Spring Street\, Bondi Junction\
 , NSW\, 2022\, Australia
END:VEVENT
END:VCALENDAR
