BEGIN:VCALENDAR
VERSION:2.0
PRODID:-//Squarespace Inc/Squarespace 6//v6//EN
BEGIN:VEVENT
UID:60347423deba4f3cf163f444@squarespace.com
DTSTAMP:20210223T032340Z
DTSTART:20210302T000000Z
DTEND:20210302T010000Z
SUMMARY:The Irish - Financial Wellbeing Series\, Part 2
GEO:-33.885833;151.207548
LOCATION:Irish Support Agency\, 64 Devonshire Street\, Surry Hills\, NSW\, 
 2010\, Australia
END:VEVENT
END:VCALENDAR
