BEGIN:VCALENDAR
VERSION:2.0
PRODID:-//Squarespace Inc/Squarespace 6//v6//EN
BEGIN:VEVENT
UID:60346a55599f2f2a61c084f0@squarespace.com
DTSTAMP:20210223T023850Z
DTSTART:20210325T230000Z
DTEND:20210326T000000Z
SUMMARY:The Book Club 
GEO:-33.885833;151.207548
LOCATION:Irish Support Agency\, 64 Devonshire Street\, Surry Hills\, NSW\, 
 2010\, Australia
END:VEVENT
END:VCALENDAR
