BEGIN:VCALENDAR
VERSION:2.0
PRODID:-//Squarespace Inc/Squarespace 6//v6//EN
BEGIN:VEVENT
UID:5efaab036e6d7b0a97b74b0a@squarespace.com
DTSTAMP:20200912T082941Z
DTSTART:20200706T230000Z
DTEND:20200706T233000Z
SUMMARY:Your job search with John Corrigan
END:VEVENT
END:VCALENDAR
