BEGIN:VCALENDAR
VERSION:2.0
PRODID:-//Squarespace Inc/Squarespace 6//v6//EN
BEGIN:VEVENT
UID:5f1f582319a26070a490eaa9@squarespace.com
DTSTAMP:20200814T040922Z
DTSTART:20200803T230000Z
DTEND:20200803T233000Z
SUMMARY:Living In Australia during the pandemic
END:VEVENT
END:VCALENDAR
