BEGIN:VCALENDAR
VERSION:2.0
PRODID:-//Squarespace Inc/Squarespace 6//v6//EN
BEGIN:VEVENT
UID:5e4b754e518fab78b4ec1b03@squarespace.com
DTSTAMP:20200912T083113Z
DTSTART:20200304T153000Z
DTEND:20200415T180000Z
SUMMARY:IRISH MUSIC SESSIONS FOR SENIORS
END:VEVENT
END:VCALENDAR
