BEGIN:VCALENDAR
VERSION:2.0
PRODID:-//Squarespace Inc/Squarespace 6//v6//EN
BEGIN:VEVENT
UID:5d91815b9663603f9f44c928@squarespace.com
DTSTAMP:20190930T041712Z
DTSTART:20191103T160000Z
DTEND:20191103T170000Z
SUMMARY:November Memorial Mass
END:VEVENT
END:VCALENDAR
