BEGIN:VCALENDAR
VERSION:2.0
PRODID:-//Squarespace Inc/Squarespace 6//v6//EN
BEGIN:VEVENT
UID:5d8850eb170a95040095b7a7@squarespace.com
DTSTAMP:20191001T055335Z
DTSTART:20191124T150000Z
DTEND:20191124T183000Z
SUMMARY:Irish Women's Wellness Event
END:VEVENT
END:VCALENDAR
