BEGIN:VCALENDAR
VERSION:2.0
PRODID:-//Squarespace Inc/Squarespace 6//v6//EN
BEGIN:VEVENT
UID:5b725a3dcd8366ad44f1a8fd@squarespace.com
DTSTAMP:20180814T043634Z
DTSTART:20181111T033000Z
DTEND:20181112T043000Z
SUMMARY:Sydney Irish Festival 
GEO:-33.848499;151.067222
LOCATION:Sydney Showground\, Sydney Olympic Boulevard\, Sydney Olympic Park
 \, NSW\, 2127\, Australia
END:VEVENT
END:VCALENDAR
