BEGIN:VCALENDAR
VERSION:2.0
PRODID:-//Squarespace Inc/Squarespace 6//v6//EN
BEGIN:VEVENT
UID:5be3c3588985830adc1eb11e@squarespace.com
DTSTAMP:20190930T042601Z
DTSTART:20181219T170000Z
DTEND:20181219T200000Z
SUMMARY:Irish Seniors Christmas Lunch 
END:VEVENT
END:VCALENDAR
