BEGIN:VCALENDAR
VERSION:2.0
PRODID:-//Squarespace Inc/Squarespace 6//v6//EN
BEGIN:VEVENT
UID:5be3c4954d7a9cd49628b399@squarespace.com
DTSTAMP:20181108T051206Z
DTSTART:20181031T143000Z
DTEND:20181031T163000Z
SUMMARY:Oíche Shamhna
GEO:-33.89356;151.263469
LOCATION:Irish Support Agency\, 2 Wellington Street\, Bondi\, NSW\, 2026\, 
 Australia
END:VEVENT
END:VCALENDAR
