BEGIN:VCALENDAR
VERSION:2.0
PRODID:-//Squarespace Inc/Squarespace 6//v6//EN
BEGIN:VEVENT
UID:5b7254cec2241b9b383e974c@squarespace.com
DTSTAMP:20180814T040920Z
DTSTART:20181022T223000Z
DTEND:20181022T233000Z
SUMMARY:2018 Annual General Meeting 
GEO:-33.89356;151.263469
LOCATION:Irish Support Agency\, 2 Wellington St\, Bondi\, Australia
END:VEVENT
END:VCALENDAR
