BEGIN:VCALENDAR
VERSION:2.0
PRODID:-//Squarespace Inc/Squarespace 6//v6//EN
BEGIN:VEVENT
UID:59dc12e4268b96b747e4726e@squarespace.com
DTSTAMP:20190920T074132Z
DTSTART:20181215T233000Z
DTEND:20181216T050000Z
SUMMARY:Irish Fight Night 2018
GEO:-33.867782;151.207725
LOCATION:Westin Hotel\, 1 Martin Place\, Sydney\, NSW\, 2000\, Australia
END:VEVENT
END:VCALENDAR
